Workbook

Sheet Sheet1
A1: 退伍（大四）免修学生人文素质选修课
A2: 注：退伍到大三的学生需要自己上网选择免修课程（参考退伍大学生申请免修课程流程图）， 本表格仅限大四退伍学生； 补报课程在课程名称下面打“√”即可。 教学秘书认真核对信息确保填写无误，于2026年10月14日16:00之前把电子版回传教务处。
A3: 序号 | B3: 学号 | C3: 姓名 | D3: 班级 | E3: 补报门数 | F3: 美育模块（本科） | I3: 非美育模块（本科） | L3: 专升本
F4: 美育 课程门数 | G4: 光影中国 (1学分) | H4: 基本乐理 (1学分) | I4: 非美育 课程门数 | J4: 神奇的材料世界 （0.5学分） | K4: 5G与人工智能 （0.5学分） | L4: 神奇的材料世界 （1.5学分）
A5: 1 | C5: =VLOOKUP(B5,Sheet2!$A:$C,2,FALSE) -> #N/A | D5: =VLOOKUP(B5,Sheet2!$A:$C,3,FALSE) -> #N/A
A6: 2 | C6: =VLOOKUP(B6,Sheet2!$A:$C,2,FALSE) -> #N/A | D6: =VLOOKUP(B6,Sheet2!$A:$C,3,FALSE) -> #N/A
A7: 3 | C7: =VLOOKUP(B7,Sheet2!$A:$C,2,FALSE) -> #N/A | D7: =VLOOKUP(B7,Sheet2!$A:$C,3,FALSE) -> #N/A
A8: 4 | C8: =VLOOKUP(B8,Sheet2!$A:$C,2,FALSE) -> #N/A | D8: =VLOOKUP(B8,Sheet2!$A:$C,3,FALSE) -> #N/A
A9: 5 | C9: =VLOOKUP(B9,Sheet2!$A:$C,2,FALSE) -> #N/A | D9: =VLOOKUP(B9,Sheet2!$A:$C,3,FALSE) -> #N/A
A10: 6 | C10: =VLOOKUP(B10,Sheet2!$A:$C,2,FALSE) -> #N/A | D10: =VLOOKUP(B10,Sheet2!$A:$C,3,FALSE) -> #N/A
A11: 7 | C11: =VLOOKUP(B11,Sheet2!$A:$C,2,FALSE) -> #N/A | D11: =VLOOKUP(B11,Sheet2!$A:$C,3,FALSE) -> #N/A
A12: 8 | C12: =VLOOKUP(B12,Sheet2!$A:$C,2,FALSE) -> #N/A | D12: =VLOOKUP(B12,Sheet2!$A:$C,3,FALSE) -> #N/A
A13: 9 | C13: =VLOOKUP(B13,Sheet2!$A:$C,2,FALSE) -> #N/A | D13: =VLOOKUP(B13,Sheet2!$A:$C,3,FALSE) -> #N/A
A14: 10 | C14: =VLOOKUP(B14,Sheet2!$A:$C,2,FALSE) -> #N/A | D14: =VLOOKUP(B14,Sheet2!$A:$C,3,FALSE) -> #N/A
A15: 11 | C15: =VLOOKUP(B15,Sheet2!$A:$C,2,FALSE) -> #N/A | D15: =VLOOKUP(B15,Sheet2!$A:$C,3,FALSE) -> #N/A
A16: 12 | C16: =VLOOKUP(B16,Sheet2!$A:$C,2,FALSE) -> #N/A | D16: =VLOOKUP(B16,Sheet2!$A:$C,3,FALSE) -> #N/A
... A33: 29 | C33: =VLOOKUP(B33,Sheet2!$A:$C,2,FALSE) -> #N/A | D33: =VLOOKUP(B33,Sheet2!$A:$C,3,FALSE) -> #N/A

Sheet Sheet2
A1: 学号 | B1: 姓名 | C1: 所属班级
A2: 210400101 | B2: 陈雨萌 | C2: 筑2101
A3: 210400103 | B3: 高梓硕 | C3: 筑2101
A4: 210400104 | B4: 顾诗奕 | C4: 筑2101
A5: 210400105 | B5: 黄诗雨 | C5: 筑2101
A6: 210400106 | B6: 师佳奇 | C6: 筑2101
A7: 210400107 | B7: 王洁鑫 | C7: 筑2101
A8: 210400108 | B8: 王净京 | C8: 筑2101
A9: 210400109 | B9: 杨骏芳 | C9: 筑2101
A10: 210400110 | B10: 张文杰 | C10: 筑2101
A11: 210400111 | B11: 曹春甫 | C11: 筑2101
A12: 210400112 | B12: 丛汇元 | C12: 筑2101
A13: 210400113 | B13: 邓博文 | C13: 筑2101
... A12940: 5254501634 | B12940: 康梦洁 | C12940: 护理2516（专升本）
